BEGIN:VCALENDAR
VERSION:2.0
PRODID:-//Stable View Equestrian - ECPv6.15.16//NONSGML v1.0//EN
CALSCALE:GREGORIAN
METHOD:PUBLISH
X-ORIGINAL-URL:https://svfequestrian.com
X-WR-CALDESC:Events for Stable View Equestrian
REFRESH-INTERVAL;VALUE=DURATION:PT1H
X-Robots-Tag:noindex
X-PUBLISHED-TTL:PT1H
BEGIN:VTIMEZONE
TZID:UTC
BEGIN:STANDARD
TZOFFSETFROM:+0000
TZOFFSETTO:+0000
TZNAME:UTC
DTSTART:20240101T000000
END:STANDARD
END:VTIMEZONE
BEGIN:VEVENT
DTSTART;VALUE=DATE:20251031
DTEND;VALUE=DATE:20251103
DTSTAMP:20260421T185826
CREATED:20240514T165215Z
LAST-MODIFIED:20251102T223556Z
UID:10001484-1761868800-1762127999@svfequestrian.com
SUMMARY:USHJA Hunter Jumpers In & Out Series No. 7
DESCRIPTION:Prize List \nResults \nStable View reserves the right to refuse to accept an entry from any owner\, trainer\, exhibitor or coach who has a past due balance owed to Stable View.
URL:https://svfequestrian.com/event/2025-hj-in-out-series-7/
LOCATION:Stable View\, 117 Stable Drive\, Aiken\, SC\, 29801\, United States
CATEGORIES:Equestrian Events,H/J In & Out Series
ORGANIZER;CN="Stable View":MAILTO:info@stableviewfarm.com
END:VEVENT
BEGIN:VEVENT
DTSTART;VALUE=DATE:20251101
DTEND;VALUE=DATE:20251102
DTSTAMP:20260421T185826
CREATED:20250915T161519Z
LAST-MODIFIED:20251101T171306Z
UID:10001518-1761955200-1762041599@svfequestrian.com
SUMMARY:Stable View Summer Bluegrass Festival
DESCRIPTION:Join us for an unforgettable evening of live bluegrass music at Stable View on Saturday\, November 1\, featuring three award-winning bands from Asheville\, NC! This indoor event offers seating for all guests\, so come enjoy top-tier bluegrass in comfort. The Bistro @ Stable View will be open for delicious food\, and Ollie’s Inn will be serving up cold beer and wine all night long.\nTickets are available to purchase. \nGates open at 4PM \nMusic begins at 5PM: \n\nAubrey Eisenman & The Clydes\nThe Nature Boys\nSongs from the Road Band\n\nIndoor event and seating will be provided.  \nThe Stable View Bistro will be open for food and the pub\, Ollie’s Inn\, for beer and wine. \nOn-site accommodations and RV Hook Ups available.  Call the office: 484-356-3173 for more information or to reserve. \n**No admission fee for children 12 and under.** \n \n 
URL:https://svfequestrian.com/event/stable-view-summer-bluegrass-festival/
LOCATION:Stable View\, 117 Stable Drive\, Aiken\, SC\, 29801\, United States
CATEGORIES:Equestrian Events,Stable View Events
ORGANIZER;CN="Stable View":MAILTO:info@stableviewfarm.com
END:VEVENT
END:VCALENDAR