BEGIN:VCALENDAR
VERSION:2.0
PRODID:-//Stable View Equestrian - ECPv6.15.16//NONSGML v1.0//EN
CALSCALE:GREGORIAN
METHOD:PUBLISH
X-WR-CALNAME:Stable View Equestrian
X-ORIGINAL-URL:https://svfequestrian.com
X-WR-CALDESC:Events for Stable View Equestrian
REFRESH-INTERVAL;VALUE=DURATION:PT1H
X-Robots-Tag:noindex
X-PUBLISHED-TTL:PT1H
BEGIN:VTIMEZONE
TZID:UTC
BEGIN:STANDARD
TZOFFSETFROM:+0000
TZOFFSETTO:+0000
TZNAME:UTC
DTSTART:20240101T000000
END:STANDARD
END:VTIMEZONE
BEGIN:VEVENT
DTSTART;VALUE=DATE:20251114
DTEND;VALUE=DATE:20251115
DTSTAMP:20260421T201301
CREATED:20251016T183516Z
LAST-MODIFIED:20251114T141204Z
UID:10001398-1763078400-1763164799@svfequestrian.com
SUMMARY:Eventing Academy X-Country Schooling Day - 10:00am-4:00pm
DESCRIPTION:XC Course will be open from 10:00am-4:00pm. \nRegister \nProgram \nPaddock Assignments  \nShow Center (Include ride times\, stabling\, entry status\, and scoring) \n \nStable View reserves the right to refuse to accept an entry from any owner\, trainer\, exhibitor or coach who has a past due balance owed to Stable View.
URL:https://svfequestrian.com/event/2025-season-ea-xc-schooling-2025-02-14-2025-07-18-6/
LOCATION:Stable View\, 117 Stable Drive\, Aiken\, SC\, 29801\, United States
CATEGORIES:Equestrian Events,Eventing Academy
ORGANIZER;CN="Stable View":MAILTO:info@stableviewfarm.com
END:VEVENT
END:VCALENDAR