BEGIN:VCALENDAR
VERSION:2.0
PRODID:-//Stable View Equestrian - ECPv6.15.16//NONSGML v1.0//EN
CALSCALE:GREGORIAN
METHOD:PUBLISH
X-WR-CALNAME:Stable View Equestrian
X-ORIGINAL-URL:https://svfequestrian.com
X-WR-CALDESC:Events for Stable View Equestrian
REFRESH-INTERVAL;VALUE=DURATION:PT1H
X-Robots-Tag:noindex
X-PUBLISHED-TTL:PT1H
BEGIN:VTIMEZONE
TZID:UTC
BEGIN:STANDARD
TZOFFSETFROM:+0000
TZOFFSETTO:+0000
TZNAME:UTC
DTSTART:20250101T000000
END:STANDARD
END:VTIMEZONE
BEGIN:VEVENT
DTSTART;VALUE=DATE:20260422
DTEND;VALUE=DATE:20260423
DTSTAMP:20260422T012521
CREATED:20260324T153104Z
LAST-MODIFIED:20260421T183842Z
UID:10001539-1776816000-1776902399@svfequestrian.com
SUMMARY:Hunter/Jumper Institute
DESCRIPTION:The Hunter/Jumper Institute at Stable View is a schooling opportunity for riders and horses to gain valuable experience in a relaxed\, supportive environment. Designed with training and education in mind\, it offers the perfect setting to school courses\, refine technique\, and build confidence while preparing for future competitions at your own pace.\nRegister here! \nRegister for a RingRadar account! \n**UPDATE: Attwood Equestrian Surfaces is refreshing the footing in the Covered Arena. Warm-up will be in the Silva Arena\, Hunters will be in Hunter Arena 2\, and Jumpers will remain in the Phillips Arena.** \n   JUMPERS                                                                     HUNTERS                                                      DRESSAGE \n   \n\n		\n			\n			\n		\n\n		\nStable View reserves the right to refuse to accept an entry from any owner\, trainer\, exhibitor or coach who has a past due balance owed to Stable View.
URL:https://svfequestrian.com/event/hji-2026-season-8/
LOCATION:Stable View\, 117 Stable Drive\, Aiken\, SC\, 29801\, United States
CATEGORIES:Equestrian Events,Hunter/Jumper Institute
ORGANIZER;CN="Stable View":MAILTO:info@stableviewfarm.com
END:VEVENT
END:VCALENDAR