BEGIN:VCALENDAR
VERSION:2.0
PRODID:-//Stable View Equestrian - ECPv6.15.16//NONSGML v1.0//EN
CALSCALE:GREGORIAN
METHOD:PUBLISH
X-WR-CALNAME:Stable View Equestrian
X-ORIGINAL-URL:https://svfequestrian.com
X-WR-CALDESC:Events for Stable View Equestrian
REFRESH-INTERVAL;VALUE=DURATION:PT1H
X-Robots-Tag:noindex
X-PUBLISHED-TTL:PT1H
BEGIN:VTIMEZONE
TZID:UTC
BEGIN:STANDARD
TZOFFSETFROM:+0000
TZOFFSETTO:+0000
TZNAME:UTC
DTSTART:20230101T000000
END:STANDARD
END:VTIMEZONE
BEGIN:VEVENT
DTSTART;VALUE=DATE:20241204
DTEND;VALUE=DATE:20241205
DTSTAMP:20260421T184310
CREATED:20231121T204252Z
LAST-MODIFIED:20241127T164217Z
UID:10001399-1733270400-1733356799@svfequestrian.com
SUMMARY:Schooling Dressage Collection
DESCRIPTION:Register \nShow Center (Entry Status\, Ride Times\, Stall Assignments) \nRide Times will be available Monday\, 12/2/2024\, at 5:00pm. \n \nStable View reserves the right to refuse to accept an entry from any owner\, trainer\, exhibitor or coach who has a past due balance owed to Stable View.
URL:https://svfequestrian.com/event/schooling-dressage-16/
LOCATION:Stable View\, 117 Stable Drive\, Aiken\, SC\, 29801\, United States
CATEGORIES:Dressage Collection,Equestrian Events
ORGANIZER;CN="Stable View":MAILTO:info@stableviewfarm.com
END:VEVENT
END:VCALENDAR