BEGIN:VCALENDAR
VERSION:2.0
PRODID:-//Stable View Equestrian - ECPv6.15.16//NONSGML v1.0//EN
CALSCALE:GREGORIAN
METHOD:PUBLISH
X-ORIGINAL-URL:https://svfequestrian.com
X-WR-CALDESC:Events for Stable View Equestrian
REFRESH-INTERVAL;VALUE=DURATION:PT1H
X-Robots-Tag:noindex
X-PUBLISHED-TTL:PT1H
BEGIN:VTIMEZONE
TZID:UTC
BEGIN:STANDARD
TZOFFSETFROM:+0000
TZOFFSETTO:+0000
TZNAME:UTC
DTSTART:20230101T000000
END:STANDARD
END:VTIMEZONE
BEGIN:VEVENT
DTSTART;VALUE=DATE:20241009
DTEND;VALUE=DATE:20241010
DTSTAMP:20260421T224028
CREATED:20221226T184915Z
LAST-MODIFIED:20241007T204305Z
UID:10001376-1728432000-1728518399@svfequestrian.com
SUMMARY:Schooling Dressage Collection
DESCRIPTION:Register \nShow Center – (ride times\, entry status\, stabling chart) \nThis event will take place in the Tree Arena. Show office will will be in the Rider Lounge at Gate 3. \n \nStable View reserves the right to refuse to accept an entry from any owner\, trainer\, exhibitor or coach who has a past due balance owed to Stable View.
URL:https://svfequestrian.com/event/schooling-dressage-9/
LOCATION:Stable View\, 117 Stable Drive\, Aiken\, SC\, 29801\, United States
CATEGORIES:Dressage Collection,Equestrian Events
ORGANIZER;CN="Stable View":MAILTO:info@stableviewfarm.com
END:VEVENT
END:VCALENDAR