BEGIN:VCALENDAR
VERSION:2.0
PRODID:-//Stable View Equestrian - ECPv6.15.16//NONSGML v1.0//EN
CALSCALE:GREGORIAN
METHOD:PUBLISH
X-ORIGINAL-URL:https://svfequestrian.com
X-WR-CALDESC:Events for Stable View Equestrian
REFRESH-INTERVAL;VALUE=DURATION:PT1H
X-Robots-Tag:noindex
X-PUBLISHED-TTL:PT1H
BEGIN:VTIMEZONE
TZID:UTC
BEGIN:STANDARD
TZOFFSETFROM:+0000
TZOFFSETTO:+0000
TZNAME:UTC
DTSTART:20240101T000000
END:STANDARD
END:VTIMEZONE
BEGIN:VEVENT
DTSTART;VALUE=DATE:20250226
DTEND;VALUE=DATE:20250227
DTSTAMP:20260421T150006
CREATED:20231122T181806Z
LAST-MODIFIED:20250212T203906Z
UID:10001259-1740528000-1740614399@svfequestrian.com
SUMMARY:Schooling Dressage Collection
DESCRIPTION:Register \nShow Center (Entry Status\, Stabling Assignments\, and Ride Times) \nRide Times will be available 2/24/2025 at 5:00pm. \nCompetition will take place in the Phillips Arena. The Covered Arena will be for warmup. Show Office is located in the trailer in front of the Covered Arena. \n \nStable View reserves the right to refuse to accept an entry from any owner\, trainer\, exhibitor or coach who has a past due balance owed to Stable View.\n\n		\n			\n			\n		\n\n		\n 
URL:https://svfequestrian.com/event/2025-dressage-collection/
LOCATION:Stable View\, 117 Stable Drive\, Aiken\, SC\, 29801\, United States
CATEGORIES:Dressage Collection,Equestrian Events
ORGANIZER;CN="Stable View":MAILTO:info@stableviewfarm.com
END:VEVENT
END:VCALENDAR