BEGIN:VCALENDAR
VERSION:2.0
PRODID:-//Stable View Equestrian - ECPv6.15.16//NONSGML v1.0//EN
CALSCALE:GREGORIAN
METHOD:PUBLISH
X-WR-CALNAME:Stable View Equestrian
X-ORIGINAL-URL:https://svfequestrian.com
X-WR-CALDESC:Events for Stable View Equestrian
REFRESH-INTERVAL;VALUE=DURATION:PT1H
X-Robots-Tag:noindex
X-PUBLISHED-TTL:PT1H
BEGIN:VTIMEZONE
TZID:UTC
BEGIN:STANDARD
TZOFFSETFROM:+0000
TZOFFSETTO:+0000
TZNAME:UTC
DTSTART:20240101T000000
END:STANDARD
END:VTIMEZONE
BEGIN:VEVENT
DTSTART;VALUE=DATE:20251203
DTEND;VALUE=DATE:20251204
DTSTAMP:20260421T161310
CREATED:20251117T161631Z
LAST-MODIFIED:20251125T143413Z
UID:10001461-1764720000-1764806399@svfequestrian.com
SUMMARY:Schooling Dressage Collection
DESCRIPTION:The Schooling Dressage Show at Stable View provides riders and horses with a low-pressure environment to gain experience and build confidence. Designed for training and preparation\, it’s an ideal opportunity to practice tests\, receive constructive feedback\, and refine performance before recognized competition—all in a calm\, supportive setting.\n  \n\n		\n			\n			\n		\n\n		\nStable View reserves the right to refuse to accept an entry from any owner\, trainer\, exhibitor or coach who has a past due balance owed to Stable View.
URL:https://svfequestrian.com/event/2026-dressage-collection-3/
LOCATION:Stable View\, 117 Stable Drive\, Aiken\, SC\, 29801\, United States
CATEGORIES:Dressage Collection,Equestrian Events
ORGANIZER;CN="Stable View":MAILTO:info@stableviewfarm.com
END:VEVENT
BEGIN:VEVENT
DTSTART;VALUE=DATE:20251206
DTEND;VALUE=DATE:20251208
DTSTAMP:20260421T161310
CREATED:20231222T175810Z
LAST-MODIFIED:20251204T192947Z
UID:10001460-1764979200-1765151999@svfequestrian.com
SUMMARY:USEF/USDF “Winter Wonderland” Dressage
DESCRIPTION:The Winter Wonderland Dressage show at Stable View marks the start of a new competition season and welcomes riders back to the arena after the winter break. This early-season event offers a relaxed\, supportive environment to refocus\, reconnect with your horse\, and ease into the year ahead with thoughtful courses\, good footing\, and a sense of community.\nShow Center (Includes ride times\, stabling\, entry status\, and scoring) \n \nStable View Release Form
URL:https://svfequestrian.com/event/usef-usdf-winter-wonderland-dressage-7/
LOCATION:Stable View\, 117 Stable Drive\, Aiken\, SC\, 29801\, United States
CATEGORIES:Equestrian Events,Recognized Dressage
ORGANIZER;CN="Stable View":MAILTO:info@stableviewfarm.com
END:VEVENT
BEGIN:VEVENT
DTSTART;VALUE=DATE:20251212
DTEND;VALUE=DATE:20251213
DTSTAMP:20260421T161310
CREATED:20251210T191415Z
LAST-MODIFIED:20251211T225348Z
UID:10001423-1765497600-1765583999@svfequestrian.com
SUMMARY:Eventing Academy X-Country Schooling Day 10:00AM-4:00PM
DESCRIPTION:The Eventing Academy Schooling Day at Stable View offers riders the opportunity to school cross country at a variety of levels in a safe and supportive setting. With thoughtfully designed courses and well-maintained footing\, it’s the perfect environment to build confidence\, introduce new horses or riders to the course\, or fine-tune your partnership before competition.\nRegister \nShow Center (Includes ride times\, scoring\, entry status\, and stabling) \n\nProgram \n\nStabling Chart \nPaddock Assignments \n\n\n\n\n\n\n\n\n\n\n\n\n		\n			\n			\n		\n\n		\n\n\n\n\nStable View reserves the right to refuse to accept an entry from any owner\, trainer\, exhibitor or coach who has a past due balance owed to Stable View.
URL:https://svfequestrian.com/event/2026-season-ea-xc-schooling-3/
LOCATION:Stable View\, 117 Stable Drive\, Aiken\, SC\, 29801\, United States
CATEGORIES:Equestrian Events,Eventing Academy
ORGANIZER;CN="Stable View":MAILTO:info@stableviewfarm.com
END:VEVENT
BEGIN:VEVENT
DTSTART;VALUE=DATE:20251213
DTEND;VALUE=DATE:20251214
DTSTAMP:20260421T161310
CREATED:20251210T201900Z
LAST-MODIFIED:20251211T225451Z
UID:10001431-1765584000-1765670399@svfequestrian.com
SUMMARY:Eventing Academy Schooling Day 8:00AM-5:00PM
DESCRIPTION:The Eventing Academy All-Phase Schooling Day at Stable View provides riders the opportunity to school all three phases—dressage\, stadium\, and cross country—at a variety of levels in a relaxed\, educational setting. It’s a great way to prepare for competition\, build experience\, and strengthen your partnership in a supportive and well-maintained environment.\nRegister \nShow Center (Includes entry status\, scoring\, stabling\, and ride times) \nProgram \nStabling Assignments \nPaddock Assignments \n \n\n\n\n\n\n\n\n\n		\n			\n			\n		\n\n		\nStable View reserves the right to refuse to accept an entry from any owner\, trainer\, exhibitor or coach who has a past due balance owed to Stable View.
URL:https://svfequestrian.com/event/2026-season-ea-schooling-day-3/
LOCATION:Stable View\, 117 Stable Drive\, Aiken\, SC\, 29801\, United States
CATEGORIES:Equestrian Events,Eventing Academy
ORGANIZER;CN="Stable View":MAILTO:info@stableviewfarm.com
END:VEVENT
BEGIN:VEVENT
DTSTART;VALUE=DATE:20251214
DTEND;VALUE=DATE:20251215
DTSTAMP:20260421T161310
CREATED:20251204T200434Z
LAST-MODIFIED:20251211T225710Z
UID:10001438-1765670400-1765756799@svfequestrian.com
SUMMARY:Eventing Academy Schooling Horse Trials
DESCRIPTION:The Eventing Academy Horse Trials at Stable View provide riders with an opportunity to apply what they’ve practiced in a supportive competition setting. Designed to encourage learning and progress\, this event welcomes riders and horses of all experience levels to challenge themselves\, gain confidence\, and enjoy a well-run and rewarding day of eventing.\nRegister \nShow Center (Includes entry status\, scoring\, stabling\, and ride times) \nProgram \nStabling Assignments \nPaddock Assignments \n\n		\n			\n			\n		\n\n		\nStable View reserves the right to refuse to accept an entry from any owner\, trainer\, exhibitor or coach who has a past due balance owed to Stable View.
URL:https://svfequestrian.com/event/2026-season-ea-ht-3/
LOCATION:Stable View\, 117 Stable Drive\, Aiken\, SC\, 29801\, United States
CATEGORIES:Equestrian Events,Eventing Academy
ORGANIZER;CN="Stable View":MAILTO:info@stableviewfarm.com
END:VEVENT
BEGIN:VEVENT
DTSTART;VALUE=DATE:20251217
DTEND;VALUE=DATE:20251218
DTSTAMP:20260421T161310
CREATED:20251216T172342Z
LAST-MODIFIED:20251216T172344Z
UID:10001550-1765929600-1766015999@svfequestrian.com
SUMMARY:Hunter/Jumper Institute
DESCRIPTION:The Hunter/Jumper Institute at Stable View is a schooling opportunity for riders and horses to gain valuable experience in a relaxed\, supportive environment. Designed with training and education in mind\, it offers the perfect setting to school courses\, refine technique\, and build confidence while preparing for future competitions at your own pace.\n2025 Prize List \nEnter \n   JUMPERS                                                                                    HUNTERS \n  \nStable View reserves the right to refuse to accept an entry from any owner\, trainer\, exhibitor or coach who has a past due balance owed to Stable View.
URL:https://svfequestrian.com/event/hji-2026-season-4/
LOCATION:Stable View\, 117 Stable Drive\, Aiken\, SC\, 29801\, United States
CATEGORIES:Equestrian Events,Hunter/Jumper Institute
ORGANIZER;CN="Stable View":MAILTO:info@stableviewfarm.com
END:VEVENT
BEGIN:VEVENT
DTSTART;VALUE=DATE:20251231
DTEND;VALUE=DATE:20260101
DTSTAMP:20260421T161310
CREATED:20251224T205014Z
LAST-MODIFIED:20251230T220137Z
UID:10001551-1767139200-1767225599@svfequestrian.com
SUMMARY:Hunter/Jumper Institute
DESCRIPTION:The Hunter/Jumper Institute at Stable View is a schooling opportunity for riders and horses to gain valuable experience in a relaxed\, supportive environment. Designed with training and education in mind\, it offers the perfect setting to school courses\, refine technique\, and build confidence while preparing for future competitions at your own pace.\nRegister Here! \nSign up for a RingRadar account! \n**UPDATE AS OF 12/30/2025 AT 4:45PM** \n   JUMPERS                                                                                    HUNTERS \n   \n\n		\n			\n			\n		\n\n		\nStable View reserves the right to refuse to accept an entry from any owner\, trainer\, exhibitor or coach who has a past due balance owed to Stable View.
URL:https://svfequestrian.com/event/hji-2026-season-5/
LOCATION:Stable View\, 117 Stable Drive\, Aiken\, SC\, 29801\, United States
CATEGORIES:Equestrian Events,Hunter/Jumper Institute
ORGANIZER;CN="Stable View":MAILTO:info@stableviewfarm.com
END:VEVENT
BEGIN:VEVENT
DTSTART;TZID=UTC:20251231T203000
DTEND;TZID=UTC:20260101T003000
DTSTAMP:20260421T161310
CREATED:20251008T120711Z
LAST-MODIFIED:20251230T164155Z
UID:10001526-1767213000-1767227400@svfequestrian.com
SUMMARY:New Year’s Eve @ Stable View
DESCRIPTION:2026 is fast approaching\, and we’d like to invite you to join us to ring in the New Year here at Stable View on December 31\, 2025! Get ready for a night of live music from Lola Grace & the Night\, food\, drinks\, and dancing at the Stable View Pavillion from 8:30pm to 12:30am.\n\nTickets are available \nDress Code: Aiken Business Casual: Denim to Diamonds\nAccommodations packages are available. For more information\, call Stable View at 484-356-3173 or email info@stableviewfarm.com.
URL:https://svfequestrian.com/event/new-years-eve-stable-view/
LOCATION:Stable View\, 117 Stable Drive\, Aiken\, SC\, 29801\, United States
CATEGORIES:Stable View Events
ORGANIZER;CN="Stable View":MAILTO:info@stableviewfarm.com
END:VEVENT
END:VCALENDAR