BEGIN:VCALENDAR
VERSION:2.0
PRODID:-//Stable View Equestrian - ECPv6.15.16//NONSGML v1.0//EN
CALSCALE:GREGORIAN
METHOD:PUBLISH
X-ORIGINAL-URL:https://svfequestrian.com
X-WR-CALDESC:Events for Stable View Equestrian
REFRESH-INTERVAL;VALUE=DURATION:PT1H
X-Robots-Tag:noindex
X-PUBLISHED-TTL:PT1H
BEGIN:VTIMEZONE
TZID:UTC
BEGIN:STANDARD
TZOFFSETFROM:+0000
TZOFFSETTO:+0000
TZNAME:UTC
DTSTART:20250101T000000
END:STANDARD
END:VTIMEZONE
BEGIN:VEVENT
DTSTART;VALUE=DATE:20260502
DTEND;VALUE=DATE:20260504
DTSTAMP:20260425T165016
CREATED:20251031T190021Z
LAST-MODIFIED:20260324T154549Z
UID:10001548-1777680000-1777852799@svfequestrian.com
SUMMARY:USEF/USEA Stable View Local Charities Horse Trials
DESCRIPTION:Experience top-level competition at Stable View’s Recognized Horse Trials—challenging courses\, a welcoming atmosphere\, and a beautiful venue for riders of all levels.\nOmnibus  \nRegister Here  \nShow Center (Includes ride times and entry status) \nStabling Information  (Available No Later Than April 30th)\nStabling Assignments         Paddock Assignments          Competition Area Map                                             \nRequired Documents \nUSEA/USEF Entry Agreement          USEA/USEF South Carolina Waiver          Stable View Waiver \nRegister your IEL\, Intercollegiate\, Alumni\, or Adult Team by emailing secretary@stableviewfarm.com. Single riders are welcome to submit their information for the creation of scramble teams. \nStable View reserves the right to refuse to accept an entry from any owner\, trainer\, exhibitor or coach who has a past due balance owed to Stable View.\n 
URL:https://svfequestrian.com/event/usef-usea-stable-view-local-charities-ht/
LOCATION:Stable View\, 117 Stable Drive\, Aiken\, SC\, 29801\, United States
CATEGORIES:Equestrian Events,Recognized Horse Trials
ORGANIZER;CN="Stable View":MAILTO:info@stableviewfarm.com
END:VEVENT
BEGIN:VEVENT
DTSTART;VALUE=DATE:20260515
DTEND;VALUE=DATE:20260518
DTSTAMP:20260425T165016
CREATED:20251031T190157Z
LAST-MODIFIED:20260213T190129Z
UID:10001549-1778803200-1779062399@svfequestrian.com
SUMMARY:USEA Intercollegiate and Interscholastic Championships
DESCRIPTION:Experience top-level competition at Stable View’s Recognized Horse Trials—challenging courses\, a welcoming atmosphere\, and a beautiful venue for riders of all levels.\nOmnibus  \nRegister Here (TBD)  \nShow Center (TBD)  \nStabling Information  (Available No Later Than May 13th)\nStabling Assignments         Paddock Assignments          Competition Area Map                                             \nRequired Documents \nUSEA/USEF Entry Agreement          USEA/USEF South Carolina Waiver          Stable View Waiver \nRegister your IEL\, Intercollegiate\, Alumni\, or Adult Team by emailing secretary@stableviewfarm.com. Single riders are welcome to submit their information for the creation of scramble teams. \nStable View reserves the right to refuse to accept an entry from any owner\, trainer\, exhibitor or coach who has a past due balance owed to Stable View.
URL:https://svfequestrian.com/event/usea-intercollegiate-and-interscholastic-championships/
LOCATION:Stable View\, 117 Stable Drive\, Aiken\, SC\, 29801\, United States
CATEGORIES:Equestrian Events,Recognized Horse Trials
ORGANIZER;CN="Stable View":MAILTO:info@stableviewfarm.com
END:VEVENT
BEGIN:VEVENT
DTSTART;VALUE=DATE:20260520
DTEND;VALUE=DATE:20260521
DTSTAMP:20260425T165016
CREATED:20260324T162620Z
LAST-MODIFIED:20260413T172147Z
UID:10001532-1779235200-1779321599@svfequestrian.com
SUMMARY:Schooling Dressage Collection
DESCRIPTION:The Schooling Dressage Show at Stable View provides riders and horses with a low-pressure environment to gain experience and build confidence. Designed for training and preparation\, it’s an ideal opportunity to practice tests\, receive constructive feedback\, and refine performance before recognized competition—all in a calm\, supportive setting.\nStable View Release Waiver  \nRegister Here!  \nShow Center (Coming Soon!)  \nLive Scoring (Coming Soon!)  \nCompetition Area Map (Show office located in front of the Covered Arena; Warm-up in Covered Arena; Competition in Phillips Arena) \n\n\n\n\n\n\n		\n			\n			\n		\n\n		\n\n\nStable View reserves the right to refuse to accept an entry from any owner\, trainer\, exhibitor or coach who has a past due balance owed to Stable View.
URL:https://svfequestrian.com/event/2026-dressage-collection-9/
LOCATION:Stable View\, 117 Stable Drive\, Aiken\, SC\, 29801\, United States
CATEGORIES:Dressage Collection,Equestrian Events
ORGANIZER;CN="Stable View":MAILTO:info@stableviewfarm.com
END:VEVENT
BEGIN:VEVENT
DTSTART;VALUE=DATE:20260523
DTEND;VALUE=DATE:20260525
DTSTAMP:20260425T165016
CREATED:20250805T142720Z
LAST-MODIFIED:20260304T165436Z
UID:10001510-1779494400-1779667199@svfequestrian.com
SUMMARY:USEF/USDF “Do Dah Day” Dressage
DESCRIPTION:Join us for recognized dressage shows offering top-quality judging\, a calm atmosphere\, and a great opportunity for riders to showcase training and progress.\nRegister Here! (Coming Soon) \nStabling and Competition Area Information \nStabling Chart        Paddock Assignments        Competition Area Map \nRequired Documents \nUSEF/USDF Entry Agreement        USEF/USDF State Waiver        Stable View Release Form \n\n		\n			\n			\n		\n\n		\nStable View reserves the right to refuse to accept an entry from any owner\, trainer\, exhibitor or coach who has a past due balance owed to Stable View.\n 
URL:https://svfequestrian.com/event/usef-usdf-do-dah-day-dressage-4/
LOCATION:Stable View\, 117 Stable Drive\, Aiken\, SC\, 29801\, United States
CATEGORIES:Equestrian Events,Recognized Dressage
ORGANIZER;CN="Stable View":MAILTO:info@stableviewfarm.com
END:VEVENT
BEGIN:VEVENT
DTSTART;VALUE=DATE:20260524
DTEND;VALUE=DATE:20260525
DTSTAMP:20260425T165016
CREATED:20260119T175038Z
LAST-MODIFIED:20260119T181334Z
UID:10001599-1779580800-1779667199@svfequestrian.com
SUMMARY:Aiken Bluegrass Series @ Stable View
DESCRIPTION:Join us for an unforgettable evening of live bluegrass music at Stable View! Bring your friends\, grab some food\, and enjoy the music!\nFor more information and ticket purchasing\, click here! \nDoors open at 4:00PM\nMusic begins at 5:00PM \nLineup:\nStraight Forward\nAubrey Eisenman & The Clydes\nSongs from the Road Band  \n**No admission fee for children 12 and under.**
URL:https://svfequestrian.com/event/aiken-bluegrass-series-stable-view-2/
LOCATION:Stable View\, 117 Stable Drive\, Aiken\, SC\, 29801\, United States
CATEGORIES:Stable View Events
ORGANIZER;CN="Stable View":MAILTO:info@stableviewfarm.com
END:VEVENT
BEGIN:VEVENT
DTSTART;VALUE=DATE:20260527
DTEND;VALUE=DATE:20260528
DTSTAMP:20260425T165016
CREATED:20260423T184905Z
LAST-MODIFIED:20260423T185145Z
UID:10001276-1779840000-1779926399@svfequestrian.com
SUMMARY:Hunter/Jumper Institute
DESCRIPTION:The Hunter/Jumper Institute at Stable View is a schooling opportunity for riders and horses to gain valuable experience in a relaxed\, supportive environment. Designed with training and education in mind\, it offers the perfect setting to school courses\, refine technique\, and build confidence while preparing for future competitions at your own pace.\nRegister here! \nRegister for a RingRadar account! \n        JUMPERS                                                                               HUNTERS                                                        DRESSAGE \n    \n\n		\n			\n			\n		\n\n		\nStable View reserves the right to refuse to accept an entry from any owner\, trainer\, exhibitor or coach who has a past due balance owed to Stable View.
URL:https://svfequestrian.com/event/hji-2026-season-9/
LOCATION:Stable View\, 117 Stable Drive\, Aiken\, SC\, 29801\, United States
CATEGORIES:Equestrian Events,Hunter/Jumper Institute
ORGANIZER;CN="Stable View":MAILTO:info@stableviewfarm.com
END:VEVENT
BEGIN:VEVENT
DTSTART;VALUE=DATE:20260529
DTEND;VALUE=DATE:20260601
DTSTAMP:20260425T165016
CREATED:20260407T170949Z
LAST-MODIFIED:20260407T171239Z
UID:10001490-1780012800-1780271999@svfequestrian.com
SUMMARY:Hunter Jumpers In & Out Series
DESCRIPTION:Join us for a fun\, welcoming hunter/jumper show offering quality courses\, a friendly atmosphere\, and a great chance for riders to gain experience at every level.\nRegister on RingRadar! \nSign up for a RingRadar account! \nFor information\, please contact the Show Manager\, Jennifer Nodine\, at (864) 316-5948  \n\n		\n			\n			\n		\n\n		\nStable View reserves the right to refuse to accept an entry from any owner\, trainer\, exhibitor or coach who has a past due balance owed to Stable View.
URL:https://svfequestrian.com/event/2026-ushja-hunter-jumpers-in-out-series-6/
LOCATION:Stable View\, 117 Stable Drive\, Aiken\, SC\, 29801\, United States
CATEGORIES:Equestrian Events,H/J In & Out Series
ORGANIZER;CN="Stable View":MAILTO:info@stableviewfarm.com
END:VEVENT
END:VCALENDAR